BEGIN:VCALENDAR
VERSION:2.0
PRODID:-//Trails at Beech Creek HOA - ECPv6.15.20//NONSGML v1.0//EN
CALSCALE:GREGORIAN
METHOD:PUBLISH
X-WR-CALNAME:Trails at Beech Creek HOA
X-ORIGINAL-URL:https://trailsatbeechcreek.com
X-WR-CALDESC:Events for Trails at Beech Creek HOA
REFRESH-INTERVAL;VALUE=DURATION:PT1H
X-Robots-Tag:noindex
X-PUBLISHED-TTL:PT1H
BEGIN:VTIMEZONE
TZID:America/New_York
BEGIN:DAYLIGHT
TZOFFSETFROM:-0500
TZOFFSETTO:-0400
TZNAME:EDT
DTSTART:20200308T070000
END:DAYLIGHT
BEGIN:STANDARD
TZOFFSETFROM:-0400
TZOFFSETTO:-0500
TZNAME:EST
DTSTART:20201101T060000
END:STANDARD
BEGIN:DAYLIGHT
TZOFFSETFROM:-0500
TZOFFSETTO:-0400
TZNAME:EDT
DTSTART:20210314T070000
END:DAYLIGHT
BEGIN:STANDARD
TZOFFSETFROM:-0400
TZOFFSETTO:-0500
TZNAME:EST
DTSTART:20211107T060000
END:STANDARD
BEGIN:DAYLIGHT
TZOFFSETFROM:-0500
TZOFFSETTO:-0400
TZNAME:EDT
DTSTART:20220313T070000
END:DAYLIGHT
BEGIN:STANDARD
TZOFFSETFROM:-0400
TZOFFSETTO:-0500
TZNAME:EST
DTSTART:20221106T060000
END:STANDARD
BEGIN:DAYLIGHT
TZOFFSETFROM:-0500
TZOFFSETTO:-0400
TZNAME:EDT
DTSTART:20230312T070000
END:DAYLIGHT
BEGIN:STANDARD
TZOFFSETFROM:-0400
TZOFFSETTO:-0500
TZNAME:EST
DTSTART:20231105T060000
END:STANDARD
END:VTIMEZONE
BEGIN:VEVENT
DTSTART;TZID=America/New_York:20220412T190000
DTEND;TZID=America/New_York:20220412T200000
DTSTAMP:20260423T071604
CREATED:20211116T170316Z
LAST-MODIFIED:20211116T192744Z
UID:944-1649790000-1649793600@trailsatbeechcreek.com
SUMMARY:Monthly HOA Meeting
DESCRIPTION:This meeting is currently expected to be virtual. The link and agenda will be sent out via email and posted on the website.
URL:https://trailsatbeechcreek.com/event/monthly-hoa-meeting-3/
LOCATION:Venue: Webex
CATEGORIES:HOA Meetings
ATTACH;FMTTYPE=image/jpeg:https://trailsatbeechcreek.com/wp-content/uploads/2021/11/board-meeting.jpg
END:VEVENT
BEGIN:VEVENT
DTSTART;TZID=America/New_York:20220308T190000
DTEND;TZID=America/New_York:20220308T200000
DTSTAMP:20260423T071604
CREATED:20211116T170244Z
LAST-MODIFIED:20211116T192739Z
UID:942-1646766000-1646769600@trailsatbeechcreek.com
SUMMARY:Monthly HOA Meeting
DESCRIPTION:This meeting is currently expected to be virtual. The link and agenda will be sent out via email and posted on the website.
URL:https://trailsatbeechcreek.com/event/monthly-hoa-meeting-2/
LOCATION:Venue: Webex
CATEGORIES:HOA Meetings
ATTACH;FMTTYPE=image/jpeg:https://trailsatbeechcreek.com/wp-content/uploads/2021/11/board-meeting.jpg
END:VEVENT
BEGIN:VEVENT
DTSTART;TZID=America/New_York:20220208T190000
DTEND;TZID=America/New_York:20220208T200000
DTSTAMP:20260423T071604
CREATED:20211116T170213Z
LAST-MODIFIED:20220208T151639Z
UID:940-1644346800-1644350400@trailsatbeechcreek.com
SUMMARY:Monthly HOA Meeting
DESCRIPTION:Join from the meeting link:\nhttps://fsres.webex.com/fsres/j.php?MTID=me35e69b46f8eac647df57cbed6e16df6 \nJoin by meeting number:\nMeeting number (access code): 2490 502 1514\nMeeting password: fCmCfsh323@ (32623743 from phones) \nTap to join from a mobile device (attendees only):\n+1-669-234-1704\,\,24905021514#32623743# US Toll\n1-844-531-0749\,\,24905021514#32623743# US Toll Free\nSome mobile devices may ask attendees to enter a numeric password. \nJoin by phone:\n+1-669-234-1704 US Toll\n1-844-531-0749 US Toll Free \nJoin from a video system or application:\nDial 24905021514@fsres.webex.com \nYou can also dial 173.243.2.68 and enter your meeting number.\nWhen dialing into AT&T before joining WebEx\, link your integrated audio by dialing #91\, followed by your Attendee ID\, then # \nNeed help? Go to https://help.webex.com
URL:https://trailsatbeechcreek.com/event/monthly-hoa-meeting/
LOCATION:Venue: Webex
CATEGORIES:HOA Meetings
ATTACH;FMTTYPE=image/jpeg:https://trailsatbeechcreek.com/wp-content/uploads/2021/11/board-meeting.jpg
END:VEVENT
BEGIN:VEVENT
DTSTART;TZID=America/New_York:20220111T190000
DTEND;TZID=America/New_York:20220111T200000
DTSTAMP:20260423T071604
CREATED:20211112T032559Z
LAST-MODIFIED:20220112T051332Z
UID:644-1641927600-1641931200@trailsatbeechcreek.com
SUMMARY:Monthly HOA Meeting
DESCRIPTION:This January\, our monthly HOA meeting will fall on the 11th. This meeting is currently expected to be virtual. The link and agenda will be sent out via email and posted on the website.
URL:https://trailsatbeechcreek.com/event/january-22-hoa-meeting/
LOCATION:Venue: Webex
CATEGORIES:HOA Meetings
ATTACH;FMTTYPE=image/jpeg:https://trailsatbeechcreek.com/wp-content/uploads/2021/11/board-meeting.jpg
END:VEVENT
BEGIN:VEVENT
DTSTART;TZID=America/New_York:20211214T190000
DTEND;TZID=America/New_York:20211214T200000
DTSTAMP:20260423T071604
CREATED:20211105T210856Z
LAST-MODIFIED:20211213T215856Z
UID:513-1639508400-1639512000@trailsatbeechcreek.com
SUMMARY:Monthly HOA Meeting
DESCRIPTION:This December\, our monthly HOA meeting will fall on the 14th. This meeting will be virtual. \nAgenda: \n\n\n\n    \n        \n            \n            \n                12-14-2021 Meeting Agenda\n                 1 file(s)  125.61 KB\n            \n            \n                Download\n            \n        \n    \n\n\n\nJoin via Webex: \nhttps://fsres.webex.com/fsres/j.php?MTID=m6abbb1dead1913eccb0c71876fcb2350 \nby meeting number\nMeeting number (access code): 2498 707 2140\nMeeting password: QXkBPJF$723 (79527530 from phones) \nTap to join from a mobile device (attendees only)\n+1-669-234-1704\,\,24987072140#79527530# US Toll\n1-844-531-0749\,\,24987072140#79527530# US Toll Free \nSome mobile devices may ask attendees to enter a numeric password. \nJoin by phone\n+1-669-234-1704 US Toll\n1-844-531-0749 US Toll Free \nJoin from a video system or application\nDial 24987072140@fsres.webex.com \nYou can also dial 173.243.2.68 and enter your meeting number. \nWhen dialing into AT&T before joining WebEx\, link your integrated audio by dialing #91\, followed by your Attendee ID\, then # \nNeed help? Go to https://help.webex.com
URL:https://trailsatbeechcreek.com/event/december-hoa-meeting/
LOCATION:Venue: Webex
CATEGORIES:HOA Meetings
ATTACH;FMTTYPE=image/jpeg:https://trailsatbeechcreek.com/wp-content/uploads/2021/11/board-meeting.jpg
END:VEVENT
BEGIN:VEVENT
DTSTART;TZID=America/New_York:20211109T190000
DTEND;TZID=America/New_York:20211109T200000
DTSTAMP:20260423T071604
CREATED:20211105T204102Z
LAST-MODIFIED:20211116T192633Z
UID:509-1636484400-1636488000@trailsatbeechcreek.com
SUMMARY:2nd Annual HOA Meeting
DESCRIPTION:Our 2nd annual HOA meeting will take place during our regular monthly meeting time on November 9th at 7:00 PM. This meeting will be held virtually on WebEx\, and the link and agenda will be sent out by email and posted on the website.
URL:https://trailsatbeechcreek.com/event/annual-hoa-meeting/
LOCATION:Venue: Webex
CATEGORIES:HOA Meetings
ATTACH;FMTTYPE=image/jpeg:https://trailsatbeechcreek.com/wp-content/uploads/2021/11/board-meeting.jpg
END:VEVENT
END:VCALENDAR