BEGIN:VCALENDAR
VERSION:2.0
PRODID:-//Trails at Beech Creek HOA - ECPv6.15.20//NONSGML v1.0//EN
CALSCALE:GREGORIAN
METHOD:PUBLISH
X-ORIGINAL-URL:https://trailsatbeechcreek.com
X-WR-CALDESC:Events for Trails at Beech Creek HOA
REFRESH-INTERVAL;VALUE=DURATION:PT1H
X-Robots-Tag:noindex
X-PUBLISHED-TTL:PT1H
BEGIN:VTIMEZONE
TZID:America/New_York
BEGIN:DAYLIGHT
TZOFFSETFROM:-0500
TZOFFSETTO:-0400
TZNAME:EDT
DTSTART:20220313T070000
END:DAYLIGHT
BEGIN:STANDARD
TZOFFSETFROM:-0400
TZOFFSETTO:-0500
TZNAME:EST
DTSTART:20221106T060000
END:STANDARD
BEGIN:DAYLIGHT
TZOFFSETFROM:-0500
TZOFFSETTO:-0400
TZNAME:EDT
DTSTART:20230312T070000
END:DAYLIGHT
BEGIN:STANDARD
TZOFFSETFROM:-0400
TZOFFSETTO:-0500
TZNAME:EST
DTSTART:20231105T060000
END:STANDARD
BEGIN:DAYLIGHT
TZOFFSETFROM:-0500
TZOFFSETTO:-0400
TZNAME:EDT
DTSTART:20240310T070000
END:DAYLIGHT
BEGIN:STANDARD
TZOFFSETFROM:-0400
TZOFFSETTO:-0500
TZNAME:EST
DTSTART:20241103T060000
END:STANDARD
END:VTIMEZONE
BEGIN:VEVENT
DTSTART;TZID=America/New_York:20230708T120000
DTEND;TZID=America/New_York:20230708T150000
DTSTAMP:20260424T084805
CREATED:20230618T000847Z
LAST-MODIFIED:20230618T000848Z
UID:4127-1688817600-1688828400@trailsatbeechcreek.com
SUMMARY:Clubhouse Rental
DESCRIPTION:The clubhouse has been reserved from 12:00-3:00 PM on 7/8 for a private birthday party. \n\n\n\n#AtTheClubhouse
URL:https://trailsatbeechcreek.com/event/clubhouse-rental-16/
LOCATION:Venue: Clubhouse\, 811 Classic Dr\, Aberdeen\, MD\, 21001\, United States
CATEGORIES:Clubhouse Events,Private Rentals
ATTACH;FMTTYPE=image/jpeg:https://trailsatbeechcreek.com/wp-content/uploads/2022/05/reserved-2.jpg
END:VEVENT
END:VCALENDAR